BEGIN:VCALENDAR
VERSION:2.0
PRODID:-//csir4pi.res.in//NONSGML kigkonsult.se iCalcreator 2.20//
CALSCALE:GREGORIAN
METHOD:PUBLISH
X-WR-TIMEZONE:UTC
BEGIN:VEVENT
UID:event72@CSIR Fourth Paradigm Institute
DTSTAMP:20260420T092339Z
CATEGORIES:Jigyasa Events
DESCRIPTION:Jigyasa Scientists Students Interaction Programme\nCategory: Ji
 gyasa Events\nLink: https://csir4pi.res.in/index.php?option=com_jem&view=e
 vent&id=72:jigyasa-scientists-students-interaction-programme\n
DTSTART:20231016T093000Z
DTEND:20231017T160000Z
SUMMARY:Jigyasa Scientists Students Interaction Programme
URL:https://csir4pi.res.in/index.php?option=com_jem&view=event&id=72:jigyas
 a-scientists-students-interaction-programme
END:VEVENT
END:VCALENDAR
