BEGIN:VCALENDAR
VERSION:2.0
PRODID:-//csir4pi.res.in//NONSGML kigkonsult.se iCalcreator 2.20//
CALSCALE:GREGORIAN
METHOD:PUBLISH
X-WR-TIMEZONE:UTC
BEGIN:VEVENT
UID:event129@CSIR Fourth Paradigm Institute
DTSTAMP:20260423T092527Z
CATEGORIES:Events
DESCRIPTION:National Science Day celebration\nCategory: Events\nLink: https
 ://csir4pi.res.in/index.php?option=com_jem&view=event&id=129:national-scie
 nce-day-celebration\n
DTSTART:20250228T110000Z
DTEND:20250228T123000Z
SUMMARY:National Science Day celebration
URL:https://csir4pi.res.in/index.php?option=com_jem&view=event&id=129:natio
 nal-science-day-celebration
END:VEVENT
END:VCALENDAR
