BEGIN:VCALENDAR
VERSION:2.0
PRODID:-//csir4pi.res.in//NONSGML kigkonsult.se iCalcreator 2.20//
CALSCALE:GREGORIAN
METHOD:PUBLISH
X-WR-TIMEZONE:UTC
BEGIN:VEVENT
UID:event13@CSIR Fourth Paradigm Institute
DTSTAMP:20260421T124635Z
CATEGORIES:Events
DESCRIPTION:International Women's Day celebration\nCategory: Events\nLink: 
 https://csir4pi.res.in/index.php?option=com_jem&view=event&id=13:internati
 onal-women-s-day-celebration\n
DTSTART:20220308T103000Z
DTEND:20220308T120000Z
SUMMARY:International Women's Day celebration
URL:https://csir4pi.res.in/index.php?option=com_jem&view=event&id=13:intern
 ational-women-s-day-celebration
END:VEVENT
END:VCALENDAR
