BEGIN:VCALENDAR
VERSION:2.0
PRODID:-//csir4pi.res.in//NONSGML kigkonsult.se iCalcreator 2.20//
CALSCALE:GREGORIAN
METHOD:PUBLISH
X-WR-TIMEZONE:UTC
BEGIN:VEVENT
UID:event138@CSIR Fourth Paradigm Institute
DTSTAMP:20260423T093642Z
CATEGORIES:Events
DESCRIPTION:First Foundation Day as a National Laboratory\nCategory: Events
 \nLink: https://csir4pi.res.in/index.php?option=com_jem&view=event&id=138:
 first-foundation-day-as-a-national-laboratory\n
DTSTART:20250619T103000Z
DTEND:20250619T120000Z
SUMMARY:First Foundation Day as a National Laboratory
URL:https://csir4pi.res.in/index.php?option=com_jem&view=event&id=138:first
 -foundation-day-as-a-national-laboratory
END:VEVENT
END:VCALENDAR
