BEGIN:VCALENDAR
VERSION:2.0
PRODID:-//csir4pi.res.in//NONSGML kigkonsult.se iCalcreator 2.20//
CALSCALE:GREGORIAN
METHOD:PUBLISH
X-WR-TIMEZONE:UTC
BEGIN:VEVENT
UID:event139@CSIR Fourth Paradigm Institute
DTSTAMP:20260423T092052Z
CATEGORIES:Events
DESCRIPTION:World Environment Day Celebration\nCategory: Events\nLink: http
 s://csir4pi.res.in/index.php?option=com_jem&view=event&id=139:world-enviro
 nment-day-celebrations\n
DTSTART:20250627T143000Z
DTEND:20250627T163000Z
SUMMARY:World Environment Day Celebration
URL:https://csir4pi.res.in/index.php?option=com_jem&view=event&id=139:world
 -environment-day-celebrations
END:VEVENT
END:VCALENDAR
