BEGIN:VCALENDAR
VERSION:2.0
PRODID:-//csir4pi.res.in//NONSGML kigkonsult.se iCalcreator 2.20//
CALSCALE:GREGORIAN
METHOD:PUBLISH
X-WR-TIMEZONE:UTC
BEGIN:VEVENT
UID:event148@CSIR Fourth Paradigm Institute
DTSTAMP:20260421T093816Z
CATEGORIES:Events
DESCRIPTION:CSIR-4PI is celebrating the 84th CSIR-Foundation Day on 27th Oc
 t 2025\nCategory: Events\nLink: https://csir4pi.res.in/index.php?option=co
 m_jem&view=event&id=148:csir-4pi-is-celebrating-the-84th-csir-foundation-d
 ay-on-27th-oct-2025\n
DTSTART:20251027T110000Z
DTEND:20251027T122000Z
SUMMARY:CSIR-4PI is celebrating the 84th CSIR-Foundation Day on 27th Oct 20
 25
URL:https://csir4pi.res.in/index.php?option=com_jem&view=event&id=148:csir-
 4pi-is-celebrating-the-84th-csir-foundation-day-on-27th-oct-2025
END:VEVENT
END:VCALENDAR
