BEGIN:VCALENDAR
VERSION:2.0
PRODID:-//csir4pi.res.in//NONSGML kigkonsult.se iCalcreator 2.20//
CALSCALE:GREGORIAN
METHOD:PUBLISH
X-WR-TIMEZONE:UTC
BEGIN:VEVENT
UID:event18@CSIR Fourth Paradigm Institute
DTSTAMP:20260421T142101Z
CATEGORIES:Events
DESCRIPTION: International Yoga Day 2022 Celebrations\nCategory: Events\nLi
 nk: https://csir4pi.res.in/index.php?option=com_jem&view=event&id=18:inter
 national-yoga-day-2022-celebrations\n
DTSTART:20220621T091500Z
DTEND:20220621T123000Z
SUMMARY: International Yoga Day 2022 Celebrations
URL:https://csir4pi.res.in/index.php?option=com_jem&view=event&id=18:intern
 ational-yoga-day-2022-celebrations
END:VEVENT
END:VCALENDAR
