BEGIN:VCALENDAR
VERSION:2.0
PRODID:-//csir4pi.res.in//NONSGML kigkonsult.se iCalcreator 2.20//
CALSCALE:GREGORIAN
METHOD:PUBLISH
X-WR-TIMEZONE:UTC
BEGIN:VEVENT
UID:event21@CSIR Fourth Paradigm Institute
DTSTAMP:20260421T124635Z
CATEGORIES:Events
DESCRIPTION:iCEN-56-'Climate Change through the lens of modelling\, artific
 ial intelligence and machine learning'\nCategory: Events\nLink: https://cs
 ir4pi.res.in/index.php?option=com_jem&view=event&id=21:icen-56-climate-cha
 nge-through-the-lens-of-modelling-artificial-intelligence-and-machine-lear
 ning\n
DTSTART:20220721T100000Z
DTEND:20220721T120000Z
SUMMARY:iCEN-56-'Climate Change through the lens of modelling\, artificial 
 intelligence and machine learning'
URL:https://csir4pi.res.in/index.php?option=com_jem&view=event&id=21:icen-5
 6-climate-change-through-the-lens-of-modelling-artificial-intelligence-and
 -machine-learning
END:VEVENT
END:VCALENDAR
