BEGIN:VCALENDAR
VERSION:2.0
PRODID:-//csir4pi.res.in//NONSGML kigkonsult.se iCalcreator 2.20//
CALSCALE:GREGORIAN
METHOD:PUBLISH
X-WR-TIMEZONE:UTC
BEGIN:VEVENT
UID:event27@CSIR Fourth Paradigm Institute
DTSTAMP:20260421T142101Z
CATEGORIES:Events
DESCRIPTION:Observance of Vigilance Awareness Week - 2022\nCategory: Events
 \nLink: https://csir4pi.res.in/index.php?option=com_jem&view=event&id=27:o
 bservance-of-vigilance-awareness-week-2022\n
DTSTART:20221031T083000Z
DTEND:20221106T170000Z
SUMMARY:Observance of Vigilance Awareness Week - 2022
URL:https://csir4pi.res.in/index.php?option=com_jem&view=event&id=27:observ
 ance-of-vigilance-awareness-week-2022
END:VEVENT
END:VCALENDAR
