BEGIN:VCALENDAR
VERSION:2.0
PRODID:-//csir4pi.res.in//NONSGML kigkonsult.se iCalcreator 2.20//
CALSCALE:GREGORIAN
METHOD:PUBLISH
X-WR-TIMEZONE:UTC
BEGIN:VEVENT
UID:event28@CSIR Fourth Paradigm Institute
DTSTAMP:20260421T142248Z
CATEGORIES:Events
DESCRIPTION:Farewell Party to Dr. Ramakrishna N\, Chief Medical Officer\nCa
 tegory: Events\nLink: https://csir4pi.res.in/index.php?option=com_jem&view
 =event&id=28:farewell-party-to-dr-ramakrishna-n-chief-medical-officer\n
DTSTART:20221104T150000Z
DTEND:20221104T170000Z
SUMMARY:Farewell Party to Dr. Ramakrishna N\, Chief Medical Officer
URL:https://csir4pi.res.in/index.php?option=com_jem&view=event&id=28:farewe
 ll-party-to-dr-ramakrishna-n-chief-medical-officer
END:VEVENT
END:VCALENDAR
