BEGIN:VCALENDAR
VERSION:2.0
PRODID:-//csir4pi.res.in//NONSGML kigkonsult.se iCalcreator 2.20//
CALSCALE:GREGORIAN
METHOD:PUBLISH
X-WR-TIMEZONE:UTC
BEGIN:VEVENT
UID:event40@CSIR Fourth Paradigm Institute
DTSTAMP:20260423T093039Z
CATEGORIES:Events
DESCRIPTION:CSIR-4PI Jigyasa : KANNADA Essay Writing Competition on My drea
 m of a Green Future\nCategory: Events\nLink: https://csir4pi.res.in/index.
 php?option=com_jem&view=event&id=40:csir-4pi-jigyasa-kannada-essay-writing
 -competition-on-my-dream-of-a-green-future\n
DTSTART:20230205T083000Z
DTEND:20230205T170000Z
SUMMARY:CSIR-4PI Jigyasa : KANNADA Essay Writing Competition on My dream of
  a Green Future
URL:https://csir4pi.res.in/index.php?option=com_jem&view=event&id=40:csir-4
 pi-jigyasa-kannada-essay-writing-competition-on-my-dream-of-a-green-future
END:VEVENT
END:VCALENDAR
