BEGIN:VCALENDAR
VERSION:2.0
PRODID:-//csir4pi.res.in//NONSGML kigkonsult.se iCalcreator 2.20//
CALSCALE:GREGORIAN
METHOD:PUBLISH
X-WR-TIMEZONE:UTC
BEGIN:VEVENT
UID:event56@CSIR Fourth Paradigm Institute
DTSTAMP:20260423T092506Z
CATEGORIES:Events
DESCRIPTION:Bharat Ratna Dr B R Ambedkar's 132 Birth Anniversary Celebratio
 ns\nCategory: Events\nLink: https://csir4pi.res.in/index.php?option=com_je
 m&view=event&id=56:bharat-ratna-dr-b-r-ambedkar-s-132-birth-anniversary-ce
 lebrations\n
DTSTART:20230602T100000Z
DTEND:20230602T122000Z
LOCATION:S R Valluri Auditorium\, CSIR NAL\, Old Airport Road Campus
SUMMARY:Bharat Ratna Dr B R Ambedkar's 132 Birth Anniversary Celebrations
URL:https://csir4pi.res.in/index.php?option=com_jem&view=event&id=56:bharat
 -ratna-dr-b-r-ambedkar-s-132-birth-anniversary-celebrations
END:VEVENT
END:VCALENDAR
