BEGIN:VCALENDAR
VERSION:2.0
PRODID:-//csir4pi.res.in//NONSGML kigkonsult.se iCalcreator 2.20//
CALSCALE:GREGORIAN
METHOD:PUBLISH
X-WR-TIMEZONE:UTC
BEGIN:VEVENT
UID:event91@CSIR Fourth Paradigm Institute
DTSTAMP:20260423T092527Z
CATEGORIES:Events
DESCRIPTION:Visit of Shri Somanath S\, Chairman\, ISRO to CSIR-4PI\nCategor
 y: Events\nLink: https://csir4pi.res.in/index.php?option=com_jem&view=even
 t&id=91:visit-of-shri-somnathji-chairman-isro-to-csir-4pi\n
DTSTART:20240402T144500Z
DTEND:20240402T163000Z
SUMMARY:Visit of Shri Somanath S\, Chairman\, ISRO to CSIR-4PI
URL:https://csir4pi.res.in/index.php?option=com_jem&view=event&id=91:visit-
 of-shri-somnathji-chairman-isro-to-csir-4pi
END:VEVENT
END:VCALENDAR
