BEGIN:VCALENDAR
VERSION:2.0
PRODID:-//csir4pi.res.in//NONSGML kigkonsult.se iCalcreator 2.20//
CALSCALE:GREGORIAN
METHOD:PUBLISH
X-WR-TIMEZONE:UTC
BEGIN:VEVENT
UID:event92@CSIR Fourth Paradigm Institute
DTSTAMP:20260423T092506Z
CATEGORIES:Events
DESCRIPTION:Swachchta Pakhwada-2024\nCategory: Events\nLink: https://csir4p
 i.res.in/index.php?option=com_jem&view=event&id=92:swachchta-pakhwada-2024
 \n
DTSTART;VALUE=DATE:20240501
DTEND;VALUE=DATE:20240516
SUMMARY:Swachchta Pakhwada-2024
URL:https://csir4pi.res.in/index.php?option=com_jem&view=event&id=92:swachc
 hta-pakhwada-2024
END:VEVENT
END:VCALENDAR
