BEGIN:VCALENDAR
VERSION:2.0
PRODID:-//csir4pi.res.in//NONSGML kigkonsult.se iCalcreator 2.20//
CALSCALE:GREGORIAN
METHOD:PUBLISH
X-WR-TIMEZONE:UTC
BEGIN:VEVENT
UID:event93@CSIR Fourth Paradigm Institute
DTSTAMP:20260423T092844Z
CATEGORIES:Events
DESCRIPTION:Earth Day 2024 \nCategory: Events\nLink: https://csir4pi.res.in
 /index.php?option=com_jem&view=event&id=93:earth-day-2024\n
DTSTART:20240503T100000Z
DTEND:20240503T111500Z
SUMMARY:Earth Day 2024 
URL:https://csir4pi.res.in/index.php?option=com_jem&view=event&id=93:earth-
 day-2024
END:VEVENT
END:VCALENDAR
