BEGIN:VCALENDAR
VERSION:2.0
PRODID:-//csir4pi.res.in//NONSGML kigkonsult.se iCalcreator 2.20//
CALSCALE:GREGORIAN
METHOD:PUBLISH
X-WR-TIMEZONE:UTC
BEGIN:VEVENT
UID:event95@CSIR Fourth Paradigm Institute
DTSTAMP:20260421T141041Z
CATEGORIES:Events
DESCRIPTION:Dr. B R Ambedkar Jayanthi Celebration\nCategory: Events\nLink: 
 https://csir4pi.res.in/index.php?option=com_jem&view=event&id=95:dr-b-r-am
 bedkar-jayanthi-celebration\n
DTSTART:20240611T103000Z
DTEND:20240611T113000Z
SUMMARY:Dr. B R Ambedkar Jayanthi Celebration
URL:https://csir4pi.res.in/index.php?option=com_jem&view=event&id=95:dr-b-r
 -ambedkar-jayanthi-celebration
END:VEVENT
END:VCALENDAR
