BEGIN:VCALENDAR
VERSION:2.0
PRODID:-//csir4pi.res.in//NONSGML kigkonsult.se iCalcreator 2.20//
CALSCALE:GREGORIAN
METHOD:PUBLISH
X-WR-TIMEZONE:UTC
BEGIN:VEVENT
UID:event57@CSIR Fourth Paradigm Institute
DTSTAMP:20260423T092405Z
CATEGORIES:Events
DESCRIPTION:Preliminary Press Meet on One Week One Lab program\nCategory: E
 vents\nLink: https://csir4pi.res.in/index.php?option=com_jem&view=event&id
 =57:preliminary-press-meet\n
DTSTART:20230619T110000Z
DTEND:20230619T113000Z
LOCATION:Committee Room\, Network Building\, CSIR Fourth Paradigm Institute
 \,India
SUMMARY:Preliminary Press Meet on One Week One Lab program
URL:https://csir4pi.res.in/index.php?option=com_jem&view=event&id=57:prelim
 inary-press-meet
END:VEVENT
END:VCALENDAR
