BEGIN:VCALENDAR
VERSION:2.0
PRODID:-//csir4pi.res.in//NONSGML kigkonsult.se iCalcreator 2.20//
CALSCALE:GREGORIAN
METHOD:PUBLISH
X-WR-TIMEZONE:UTC
BEGIN:VEVENT
UID:event130@CSIR Fourth Paradigm Institute
DTSTAMP:20260423T092052Z
CATEGORIES:Talks
DESCRIPTION:Satellite Remote Sensing and AI for Agricultural Applications\n
 Category: Talks\nLink: https://csir4pi.res.in/index.php?option=com_jem&vie
 w=event&id=130:satellite-remote-sensing-and-ai-for-agricultural-applicatio
 ns\n
DTSTART:20250306T103000Z
DTEND:20250306T113000Z
SUMMARY:Satellite Remote Sensing and AI for Agricultural Applications
URL:https://csir4pi.res.in/index.php?option=com_jem&view=event&id=130:satel
 lite-remote-sensing-and-ai-for-agricultural-applications
END:VEVENT
END:VCALENDAR
